BEGIN:VCALENDAR
PRODID:-//Solspace/Calendar 2.x//EN
VERSION:2.0
CALSCALE:GREGORIAN
BEGIN:VEVENT
UID:b4d16a50da0e5e1c823933067a596233@solspace.com
DTSTAMP:20260421T210733
DTSTART:20250531T170000
DTEND:20250531T183000
SUMMARY:Adult B'nei Mitzvah Service
END:VEVENT
END:VCALENDAR
