BEGIN:VCALENDAR
PRODID:-//Solspace/Calendar 2.x//EN
VERSION:2.0
CALSCALE:GREGORIAN
BEGIN:VEVENT
UID:382336c5e6731d2be6125bd153b88329@solspace.com
DTSTAMP:20260421T192326
DTSTART:20250604T190000
DTEND:20250604T200000
SUMMARY:Healing Service
END:VEVENT
END:VCALENDAR
