BEGIN:VCALENDAR
PRODID:-//Solspace/Calendar 2.x//EN
VERSION:2.0
CALSCALE:GREGORIAN
BEGIN:VEVENT
UID:ac2738e4e35a018fcb3d1a64317798be@solspace.com
DTSTAMP:20260420T100353
DTSTART:20250513T103000
DTEND:20250513T120000
SUMMARY:Mussar Meetup (from Va'ad Mussar: a CBI Circle)
END:VEVENT
END:VCALENDAR
