BEGIN:VCALENDAR
PRODID:-//Solspace/Calendar 2.x//EN
VERSION:2.0
CALSCALE:GREGORIAN
BEGIN:VEVENT
UID:f2c119d40c6075401e17dcb6b82d3229@solspace.com
DTSTAMP:20260421T210947
DTSTART:20250513T130000
DTEND:20250513T150000
SUMMARY:Donation Sorting at School House Supplies (from Tikkun Olam 
 Together: a CBI Circle)
END:VEVENT
END:VCALENDAR
