BEGIN:VCALENDAR
PRODID:-//Solspace/Calendar 2.x//EN
VERSION:2.0
CALSCALE:GREGORIAN
BEGIN:VEVENT
UID:4e611d4d30998e3c696dc9a5b8cea06e@solspace.com
DTSTAMP:20260421T210948
DTSTART:20250516T180000
DTEND:20250516T190000
SUMMARY:High School Graduation and Shabbat Evening Service
END:VEVENT
END:VCALENDAR
