BEGIN:VCALENDAR
PRODID:-//Solspace/Calendar 2.x//EN
VERSION:2.0
CALSCALE:GREGORIAN
BEGIN:VEVENT
UID:85159bbf9b786a9069233cb3416bd8ce@solspace.com
DTSTAMP:20260421T210851
DTSTART:20250516T190000
DTEND:20250516T210000
SUMMARY:Omek Lag b'Omer Bonfire
END:VEVENT
END:VCALENDAR
