BEGIN:VCALENDAR
PRODID:-//Solspace/Calendar 2.x//EN
VERSION:2.0
CALSCALE:GREGORIAN
BEGIN:VEVENT
UID:3a85faae56f09854b67ef14dc013c977@solspace.com
DTSTAMP:20260421T210605
DTSTART:20250517T103000
DTEND:20250517T120000
SUMMARY:Bar Mitzvah of John Barr and Shabbat Morning Service
END:VEVENT
END:VCALENDAR
