BEGIN:VCALENDAR
PRODID:-//Solspace/Calendar 2.x//EN
VERSION:2.0
CALSCALE:GREGORIAN
BEGIN:VEVENT
UID:d02ffebd8d504e49e062a4e113f08c36@solspace.com
DTSTAMP:20260421T210811
DTSTART:20250517T170000
DTEND:20250517T183000
SUMMARY:Havdallah Bat Mitzvah of Lindsey Wohlgemuth
END:VEVENT
END:VCALENDAR
