BEGIN:VCALENDAR
PRODID:-//Solspace/Calendar 2.x//EN
VERSION:2.0
CALSCALE:GREGORIAN
BEGIN:VEVENT
UID:47974c919bd6157d55f94bc39953ec3e@solspace.com
DTSTAMP:20260421T192126
DTSTART:20250612T180000
DTEND:20250612T203000
SUMMARY:WRJ/Beth Israel Sisterhood Board Meeting
END:VEVENT
END:VCALENDAR
