BEGIN:VCALENDAR
PRODID:-//Solspace/Calendar 2.x//EN
VERSION:2.0
CALSCALE:GREGORIAN
BEGIN:VEVENT
UID:49c5ffa1d019c9f0bc7b775287999993@solspace.com
DTSTAMP:20260421T192338
DTSTART:20250614T170000
DTEND:20250614T183000
SUMMARY:Havdallah Bat Mitzvah of Amelia Hillburg
END:VEVENT
END:VCALENDAR
