BEGIN:VCALENDAR
PRODID:-//Solspace/Calendar 2.x//EN
VERSION:2.0
CALSCALE:GREGORIAN
BEGIN:VEVENT
UID:0d940ce6603294d83e3f056bb5c49e74@solspace.com
DTSTAMP:20260421T192327
DTSTART:20250621T103000
DTEND:20250621T120000
SUMMARY:Bar Mitzvah of Emil Schlansky and Shabbat Morning Service
END:VEVENT
END:VCALENDAR
