BEGIN:VCALENDAR
PRODID:-//Solspace/Calendar 2.x//EN
VERSION:2.0
CALSCALE:GREGORIAN
BEGIN:VEVENT
UID:08a884487c292104472ab7c28bfde68f@solspace.com
DTSTAMP:20260421T192328
DTSTART:20250627T180000
DTEND:20250627T190000
SUMMARY:SHIR Joy!: Cantor Cahana's Final Shabbat Service
END:VEVENT
END:VCALENDAR
