BEGIN:VCALENDAR
PRODID:-//Solspace/Calendar 2.x//EN
VERSION:2.0
CALSCALE:GREGORIAN
BEGIN:VEVENT
UID:4d54e2f68910d27e611641f437915113@solspace.com
DTSTAMP:20260421T175525
DTSTART:20250719T103000
DTEND:20250719T120000
SUMMARY:Bar Mitzvah of Maxfield Winer and Shabbat Morning Service
END:VEVENT
END:VCALENDAR
