BEGIN:VCALENDAR
PRODID:-//Solspace/Calendar 2.x//EN
VERSION:2.0
CALSCALE:GREGORIAN
BEGIN:VEVENT
UID:634de020c814048112e901e896d046a6@solspace.com
DTSTAMP:20260421T175521
DTSTART:20250720T110000
DTEND:20250720T140000
SUMMARY:Portland Pride Parade
END:VEVENT
END:VCALENDAR
