BEGIN:VCALENDAR
PRODID:-//Solspace/Calendar 2.x//EN
VERSION:2.0
CALSCALE:GREGORIAN
BEGIN:VEVENT
UID:dbbbcc140ed92f8e5483ad2d74cf8be5@solspace.com
DTSTAMP:20260421T144123
DTSTART;VALUE=DATE:20250901
DTEND;VALUE=DATE:20250902
SUMMARY:CBI Office Closed for Labor Day
END:VEVENT
END:VCALENDAR
