BEGIN:VCALENDAR
PRODID:-//Solspace/Calendar 2.x//EN
VERSION:2.0
CALSCALE:GREGORIAN
BEGIN:VEVENT
UID:97e238f0808d50b9b6146ea1c26bc6e0@solspace.com
DTSTAMP:20260421T144123
DTSTART:20250906T170000
DTEND:20250906T183000
SUMMARY:Havdalah Bar Mitzvah of Ethan Frankel
END:VEVENT
END:VCALENDAR
