BEGIN:VCALENDAR
PRODID:-//Solspace/Calendar 2.x//EN
VERSION:2.0
CALSCALE:GREGORIAN
BEGIN:VEVENT
UID:8ce49d24c2590f338d74cd1f916332b1@solspace.com
DTSTAMP:20260421T130841
DTSTART;VALUE=DATE:20251007
DTEND;VALUE=DATE:20251014
SUMMARY:Sukkot
END:VEVENT
END:VCALENDAR
