BEGIN:VCALENDAR
PRODID:-//Solspace/Calendar 2.x//EN
VERSION:2.0
CALSCALE:GREGORIAN
BEGIN:VEVENT
UID:788a1a4712de1763d2108fe93d781239@solspace.com
DTSTAMP:20260421T131009
DTSTART;VALUE=DATE:20251014
DTEND;VALUE=DATE:20251015
SUMMARY:Simchat Torah
END:VEVENT
END:VCALENDAR
