BEGIN:VCALENDAR
PRODID:-//Solspace/Calendar 2.x//EN
VERSION:2.0
CALSCALE:GREGORIAN
BEGIN:VEVENT
UID:78730606132b3cfad3c4171fd57e2cfe@solspace.com
DTSTAMP:20260422T172452
DTSTART:20280415T103000
DTEND:20280415T120000
SUMMARY:B'nei Mitzvah of Max Hoffman and Izzy Hoffman
END:VEVENT
END:VCALENDAR
