BEGIN:VCALENDAR
PRODID:-//Solspace/Calendar 2.x//EN
VERSION:2.0
CALSCALE:GREGORIAN
BEGIN:VEVENT
UID:07c99a9f9cff5f5d1944fa22af2b3e94@solspace.com
DTSTAMP:20260420T114939
DTSTART:20250424T140000
DTEND:20250424T150000
SUMMARY:Seeds\, Seeds\, What to Do With My Seeds? (From Deep Roots a
 nd Green Shoots: a CBI Circle)
END:VEVENT
END:VCALENDAR
