BEGIN:VCALENDAR
PRODID:-//Solspace/Calendar 2.x//EN
VERSION:2.0
CALSCALE:GREGORIAN
BEGIN:VEVENT
UID:72cf11e710cf489ad2a8bf7ef1179b03@solspace.com
DTSTAMP:20260420T114945
DTSTART:20250418T163000
DTEND:20250418T173000
SUMMARY:Paddlers' Planning Meeetup (from Kayak Companions: a CBI Cir
 cle)
END:VEVENT
END:VCALENDAR
