BEGIN:VCALENDAR
PRODID:-//Solspace/Calendar 2.x//EN
VERSION:2.0
CALSCALE:GREGORIAN
BEGIN:VEVENT
UID:5e0079b6a77ed5d17521a69c8faae03f@solspace.com
DTSTAMP:20260420T100416
DTSTART:20250513T173000
DTEND:20250513T193000
SUMMARY:The Art and Architecture of CBI (from Culture Nerds: a CBI C
 ircle)
END:VEVENT
END:VCALENDAR
