BEGIN:VCALENDAR
PRODID:-//Solspace/Calendar 2.x//EN
VERSION:2.0
CALSCALE:GREGORIAN
BEGIN:VEVENT
UID:45871ae4e2faab3c330ae8b273a07eab@solspace.com
DTSTAMP:20260420T100302
DTSTART:20250501T163000
DTEND:20250501T173000
SUMMARY:Senior Social Hour (from Stages and Sages: a CBI Circle)
END:VEVENT
END:VCALENDAR
