BEGIN:VCALENDAR
PRODID:-//Solspace/Calendar 2.x//EN
VERSION:2.0
CALSCALE:GREGORIAN
BEGIN:VEVENT
UID:f2f59d99db70f810cb8e25e05f4d15e3@solspace.com
DTSTAMP:20260421T210947
DTSTART:20250528T190000
DTEND:20250528T200000
SUMMARY:167th Annual Meeting
END:VEVENT
END:VCALENDAR
