BEGIN:VCALENDAR
PRODID:-//Solspace/Calendar 2.x//EN
VERSION:2.0
CALSCALE:GREGORIAN
BEGIN:VEVENT
UID:1b49e1203a4c3c223020ccbf7a4a3b78@solspace.com
DTSTAMP:20260421T144356
DTSTART:20250914T101500
DTEND:20250914T121500
SUMMARY:First Grade Wimpel Making
END:VEVENT
END:VCALENDAR
