BEGIN:VCALENDAR
PRODID:-//Solspace/Calendar 2.x//EN
VERSION:2.0
CALSCALE:GREGORIAN
BEGIN:VEVENT
UID:fea55b7780456d511ee575991c649bce@solspace.com
DTSTAMP:20260421T131008
DTSTART:20251019T093000
DTEND:20251019T103000
SUMMARY:Consecration
END:VEVENT
END:VCALENDAR
