BEGIN:VCALENDAR
PRODID:-//Solspace/Calendar 2.x//EN
VERSION:2.0
CALSCALE:GREGORIAN
BEGIN:VEVENT
UID:9205bea7731106d2309136295d83741b@solspace.com
DTSTAMP:20260420T100249
DTSTART:20250518T120000
DTEND:20250518T150000
SUMMARY:Lacamas Lake Paddle (from Kayak Companions: a CBI Circle)
END:VEVENT
END:VCALENDAR
