BEGIN:VCALENDAR
PRODID:-//Solspace/Calendar 2.x//EN
VERSION:2.0
CALSCALE:GREGORIAN
BEGIN:VEVENT
UID:622971a68f0f85f64195a8bb42c59b01@solspace.com
DTSTAMP:20260421T100430
DTSTART;VALUE=DATE:20251205
DTEND;VALUE=DATE:20251208
SUMMARY:Social Justice in Los Angeles - for 9th Grade Students
END:VEVENT
END:VCALENDAR
