BEGIN:VCALENDAR
PRODID:-//Solspace/Calendar 2.x//EN
VERSION:2.0
CALSCALE:GREGORIAN
BEGIN:VEVENT
UID:4fce6152da11d7623e59b1de71758692@solspace.com
DTSTAMP:20260420T100416
DTSTART:20250515T130000
DTEND:20250515T143000
SUMMARY:Blue Sky\, Oregon Center for the Photographic Arts Tour (fro
 m Culture Nerds: a CBI Circle)
END:VEVENT
END:VCALENDAR
