BEGIN:VCALENDAR
PRODID:-//Solspace/Calendar 2.x//EN
VERSION:2.0
CALSCALE:GREGORIAN
BEGIN:VEVENT
UID:5ebdaea0b7210cfd4d9a1bf10ecd0346@solspace.com
DTSTAMP:20260420T082458
DTSTART:20250604T190000
DTEND:20250604T200000
SUMMARY:Connect with Keshet Kin (from Keshet Kin: a CBI Circle)
END:VEVENT
END:VCALENDAR
