BEGIN:VCALENDAR
PRODID:-//Solspace/Calendar 2.x//EN
VERSION:2.0
CALSCALE:GREGORIAN
BEGIN:VEVENT
UID:65001910dbec776809faf605d5d68b87@solspace.com
DTSTAMP:20260421T144243
DTSTART:20250905T180000
DTEND:20250905T190000
SUMMARY:Shabbat on the Plaza (with Supper from CBI's Education Commi
 ttee)
END:VEVENT
END:VCALENDAR
