BEGIN:VCALENDAR
PRODID:-//Solspace/Calendar 2.x//EN
VERSION:2.0
CALSCALE:GREGORIAN
BEGIN:VEVENT
UID:0831b559fbb0f0d108b26e11a96a0c63@solspace.com
DTSTAMP:20260421T175527
DTSTART;VALUE=DATE:20250630
DTEND;VALUE=DATE:20250705
SUMMARY:Summer Schmita (Sabbatical)
END:VEVENT
END:VCALENDAR
