BEGIN:VCALENDAR
PRODID:-//Solspace/Calendar 2.x//EN
VERSION:2.0
CALSCALE:GREGORIAN
BEGIN:VEVENT
UID:87501238134e6fd35e9d174f1c31cab8@solspace.com
DTSTAMP:20260421T162009
DTSTART:20250802T090000
DTEND:20250802T100000
SUMMARY:Tour de Tot - Southeast Portland
END:VEVENT
END:VCALENDAR
