BEGIN:VCALENDAR
PRODID:-//Solspace/Calendar 2.x//EN
VERSION:2.0
CALSCALE:GREGORIAN
BEGIN:VEVENT
UID:ecb13be21cf33604f0ea6b1d6136eae6@solspace.com
DTSTAMP:20260421T161928
DTSTART:20250816T090000
DTEND:20250816T100000
SUMMARY:Tour de Tot - West Hills
END:VEVENT
END:VCALENDAR
