BEGIN:VCALENDAR
PRODID:-//Solspace/Calendar 2.x//EN
VERSION:2.0
CALSCALE:GREGORIAN
BEGIN:VEVENT
UID:d6140cafcebfa46e26f98d2c914940e3@solspace.com
DTSTAMP:20260421T162009
DTSTART:20250823T190000
DTEND:20250823T200000
SUMMARY:An Evening of Joy and Music in Support of WRJ YES Fund
END:VEVENT
END:VCALENDAR
