BEGIN:VCALENDAR
PRODID:-//Solspace/Calendar 2.x//EN
VERSION:2.0
CALSCALE:GREGORIAN
BEGIN:VEVENT
UID:9a17ab7495dedf5e84c55ee947238e88@solspace.com
DTSTAMP:20260421T144341
DTSTART:20250906T090000
DTEND:20250906T100000
SUMMARY:Tour de Tot - North Portland
END:VEVENT
END:VCALENDAR
