BEGIN:VCALENDAR
PRODID:-//Solspace/Calendar 2.x//EN
VERSION:2.0
CALSCALE:GREGORIAN
BEGIN:VEVENT
UID:a433bf6b73d6cd768afd78933fad4cd9@solspace.com
DTSTAMP:20260421T175520
DTSTART:20250719T090000
DTEND:20250719T100000
SUMMARY:Tour de Tot - Southwest Portland
END:VEVENT
END:VCALENDAR
