BEGIN:VCALENDAR
PRODID:-//Solspace/Calendar 2.x//EN
VERSION:2.0
CALSCALE:GREGORIAN
BEGIN:VEVENT
UID:f80b0ec4629f065a4c5a0c469407e01a@solspace.com
DTSTAMP:20260421T144122
DTSTART:20250907T093000
DTEND:20250907T140000
SUMMARY:Religious School Opening Day
END:VEVENT
END:VCALENDAR
