BEGIN:VCALENDAR
PRODID:-//Solspace/Calendar 2.x//EN
VERSION:2.0
CALSCALE:GREGORIAN
BEGIN:VEVENT
UID:cf0fabcb5053d92102e6d6e0c07ea0e3@solspace.com
DTSTAMP:20260421T131043
DTSTART:20251015T150000
DTEND:20251015T160000
SUMMARY:Social Action Committee Meeting
END:VEVENT
END:VCALENDAR
