BEGIN:VCALENDAR
PRODID:-//Solspace/Calendar 2.x//EN
VERSION:2.0
CALSCALE:GREGORIAN
BEGIN:VEVENT
UID:7f9589fbcbac61d5087763ab461fc5ac@solspace.com
DTSTAMP:20260421T162057
DTSTART:20250823T100000
DTEND:20250823T110000
SUMMARY:Lilith Salon - Giving Friendship Its Due
END:VEVENT
END:VCALENDAR
