BEGIN:VCALENDAR
PRODID:-//Solspace/Calendar 2.x//EN
VERSION:2.0
CALSCALE:GREGORIAN
BEGIN:VEVENT
UID:44b1a67df7b54f2fe272e65d3aca138b@solspace.com
DTSTAMP:20260421T175434
DTSTART:20250722T180000
DTEND:20250722T210000
SUMMARY:Brotherhood Baseball Night
END:VEVENT
END:VCALENDAR
