BEGIN:VCALENDAR
PRODID:-//Solspace/Calendar 2.x//EN
VERSION:2.0
CALSCALE:GREGORIAN
BEGIN:VEVENT
UID:0c4d5d9bdb22b6653b69223746d83d99@solspace.com
DTSTAMP:20260421T161848
DTSTART:20250809T103000
DTEND:20250809T120000
SUMMARY:Shabbat Morning Service and Community Challah Bake
END:VEVENT
END:VCALENDAR
