BEGIN:VCALENDAR
PRODID:-//Solspace/Calendar 2.x//EN
VERSION:2.0
CALSCALE:GREGORIAN
BEGIN:VEVENT
UID:7731f00a4af6e3c79fcb28c61cc9e495@solspace.com
DTSTAMP:20260421T144136
DTSTART;VALUE=DATE:20250912
DTEND;VALUE=DATE:20250915
SUMMARY:Pacific Northwest Sisterhood Retreat
END:VEVENT
END:VCALENDAR
