BEGIN:VCALENDAR
PRODID:-//Solspace/Calendar 2.x//EN
VERSION:2.0
CALSCALE:GREGORIAN
BEGIN:VEVENT
UID:0054c988c25342d028fd1ada584e4102@solspace.com
DTSTAMP:20260421T144335
DTSTART:20250922T190000
DTEND:20250922T210000
SUMMARY:Erev Rosh Hashanah Traditional Service
END:VEVENT
END:VCALENDAR
