BEGIN:VCALENDAR
PRODID:-//Solspace/Calendar 2.x//EN
VERSION:2.0
CALSCALE:GREGORIAN
BEGIN:VEVENT
UID:4eb57e1d2baf2a1e18e79366ecdcf9f2@solspace.com
DTSTAMP:20260421T144234
DTSTART:20250923T100000
DTEND:20250923T110000
SUMMARY:Rosh Hashanah Upper Elementary Service
END:VEVENT
END:VCALENDAR
