BEGIN:VCALENDAR
PRODID:-//Solspace/Calendar 2.x//EN
VERSION:2.0
CALSCALE:GREGORIAN
BEGIN:VEVENT
UID:454645272a6b680575ee692ea3e547ba@solspace.com
DTSTAMP:20260421T144233
DTSTART:20250923T100000
DTEND:20250923T120000
SUMMARY:Rosh Hashanah Traditional Service
END:VEVENT
END:VCALENDAR
