BEGIN:VCALENDAR
PRODID:-//Solspace/Calendar 2.x//EN
VERSION:2.0
CALSCALE:GREGORIAN
BEGIN:VEVENT
UID:437c9ad2fb970920b82da7a091a93afd@solspace.com
DTSTAMP:20260421T144444
DTSTART:20250923T110000
DTEND:20250923T120000
SUMMARY:Rosh Hashanah Service for Families with Young Children
END:VEVENT
END:VCALENDAR
