BEGIN:VCALENDAR
PRODID:-//Solspace/Calendar 2.x//EN
VERSION:2.0
CALSCALE:GREGORIAN
BEGIN:VEVENT
UID:a81a37049f4f0c5c61c6393d00b158aa@solspace.com
DTSTAMP:20260421T144342
DTSTART:20250923T123000
DTEND:20250923T133000
SUMMARY:Rosh Hashanah Sweets Reception
END:VEVENT
END:VCALENDAR
