BEGIN:VCALENDAR
PRODID:-//Solspace/Calendar 2.x//EN
VERSION:2.0
CALSCALE:GREGORIAN
BEGIN:VEVENT
UID:2344e6530140a4005dc914ea5ff8c576@solspace.com
DTSTAMP:20260421T144525
DTSTART:20250923T160000
DTEND:20250923T170000
SUMMARY:Tashlich
END:VEVENT
END:VCALENDAR
