BEGIN:VCALENDAR
PRODID:-//Solspace/Calendar 2.x//EN
VERSION:2.0
CALSCALE:GREGORIAN
BEGIN:VEVENT
UID:9961b21a8e80c8faacd508d403bceea9@solspace.com
DTSTAMP:20260421T144244
DTSTART:20250923T160000
DTEND:20250923T170000
SUMMARY:Teen Tashlich
END:VEVENT
END:VCALENDAR
